BEGIN:VCALENDAR
VERSION:2.0
PRODID:spatie/icalendar-generator
DESCRIPTION:Events from Grosvenor Road Allotments
X-WR-CALDESC:Events from Grosvenor Road Allotments
REFRESH-INTERVAL;VALUE=DURATION:PT1440M
X-PUBLISHED-TTL:PT1440M
BEGIN:VTIMEZONE
TZID:Etc/GMT+0
BEGIN:STANDARD
DTSTART:20240626T103000Z
TZOFFSETFROM:+0000
TZOFFSETTO:+0000
END:STANDARD
END:VTIMEZONE
BEGIN:VTIMEZONE
TZID:UTC
BEGIN:STANDARD
DTSTART:20250725T231451Z
TZOFFSETFROM:+0000
TZOFFSETTO:+0000
END:STANDARD
END:VTIMEZONE
BEGIN:VEVENT
UID:28-3
DTSTAMP:20260421T231451Z
SUMMARY:Trading Hut Open
LOCATION:Trading Hut Grosvenor Road Allotments Grosvenor Road Sale Greater 
 Manchester M33 6NN
ORGANIZER;CN=admin:MAILTO:tinaccooper86@gmail.com
RRULE:FREQ=MONTHLY;BYDAY=2SU;UNTIL=20250713T000000Z
DTSTART;TZID=Etc/GMT+0:20250323T103000
DTEND;TZID=Etc/GMT+0:20250323T120000
X-ALT-DESC;FMTTYPE=TEXT/HTML:<p>The Sunday opening of the SHAS Trading Hut 
 shop at the Grosvenor Road Allotments. You must be a member of SHAS (£5) 
 to use the shop.</p>\n
CATEGORIES:TradingHut,  General
URL;VALUE=URI:https://shas.org.uk/mc-events/trading-hut-open-2/?mc_id=28
END:VEVENT
END:VCALENDAR