BEGIN:VCALENDAR
VERSION:2.0
PRODID:spatie/icalendar-generator
DESCRIPTION:Events from Grosvenor Road Allotments
X-WR-CALDESC:Events from Grosvenor Road Allotments
REFRESH-INTERVAL;VALUE=DURATION:PT1440M
X-PUBLISHED-TTL:PT1440M
BEGIN:VTIMEZONE
TZID:Etc/GMT+0
BEGIN:STANDARD
DTSTART:20240806T103000Z
TZOFFSETFROM:+0000
TZOFFSETTO:+0000
END:STANDARD
END:VTIMEZONE
BEGIN:VTIMEZONE
TZID:UTC
BEGIN:STANDARD
DTSTART:20250725T224322Z
TZOFFSETFROM:+0000
TZOFFSETTO:+0000
END:STANDARD
END:VTIMEZONE
BEGIN:VEVENT
UID:4-2
DTSTAMP:20260421T224322Z
SUMMARY:Trading Hut Open
LOCATION:Trading Hut Grosvenor Road Allotments Grosvenor Road Sale Greater 
 Manchester M33 6NN
ORGANIZER;CN=admin:MAILTO:tinaccooper86@gmail.com
RRULE:FREQ=MONTHLY;BYDAY=1SA;UNTIL=20250705T000000Z
DTSTART;TZID=Etc/GMT+0:20250503T103000
DTEND;TZID=Etc/GMT+0:20250503T120000
X-ALT-DESC;FMTTYPE=TEXT/HTML:<p>The monthly Saturday opening of the SHAS Tr
 ading Hut shop at the Grosvenor Road Allotments. You must be a member of S
 HAS (£5) to use the shop.</p>\n
CATEGORIES:TradingHut,  General
URL;VALUE=URI:https://shas.org.uk/mc-events/trading-hut-open/?mc_id=4
END:VEVENT
END:VCALENDAR