BEGIN:VCALENDAR
VERSION:2.0
PRODID:spatie/icalendar-generator
DESCRIPTION:Events from Grosvenor Road Allotments
X-WR-CALDESC:Events from Grosvenor Road Allotments
REFRESH-INTERVAL;VALUE=DURATION:PT1440M
X-PUBLISHED-TTL:PT1440M
BEGIN:VTIMEZONE
TZID:Etc/GMT+0
BEGIN:STANDARD
DTSTART:20241002T140000Z
TZOFFSETFROM:+0000
TZOFFSETTO:+0000
END:STANDARD
END:VTIMEZONE
BEGIN:VTIMEZONE
TZID:UTC
BEGIN:STANDARD
DTSTART:20250726T092135Z
TZOFFSETFROM:+0000
TZOFFSETTO:+0000
END:STANDARD
END:VTIMEZONE
BEGIN:VEVENT
UID:43-6
DTSTAMP:20260422T092135Z
SUMMARY:Summer Picnic
LOCATION:Community Orchard
ORGANIZER;CN=admin:MAILTO:tinaccooper86@gmail.com
DTSTART;TZID=Etc/GMT+0:20250629T140000
DTEND;TZID=Etc/GMT+0:20250629T170000
X-ALT-DESC;FMTTYPE=TEXT/HTML:
CATEGORIES:Social
URL;VALUE=URI:https://shas.org.uk/mc-events/summer-picnic/?mc_id=43
END:VEVENT
END:VCALENDAR