BEGIN:VCALENDAR
VERSION:2.0
PRODID:spatie/icalendar-generator
DESCRIPTION:Events from Grosvenor Road Allotments
X-WR-CALDESC:Events from Grosvenor Road Allotments
REFRESH-INTERVAL;VALUE=DURATION:PT1440M
X-PUBLISHED-TTL:PT1440M
BEGIN:VTIMEZONE
TZID:Etc/GMT+0
BEGIN:STANDARD
DTSTART:20250805T103000Z
TZOFFSETFROM:+0000
TZOFFSETTO:+0000
END:STANDARD
END:VTIMEZONE
BEGIN:VTIMEZONE
TZID:UTC
BEGIN:STANDARD
DTSTART:20250725T192131Z
TZOFFSETFROM:+0000
TZOFFSETTO:+0000
END:STANDARD
END:VTIMEZONE
BEGIN:VEVENT
UID:47-10
DTSTAMP:20260421T192131Z
SUMMARY:Trading Hut Open &amp;amp\; Saturday Social
LOCATION:
ORGANIZER;CN=admin:MAILTO:tinaccooper86@gmail.com
DTSTART;TZID=Etc/GMT+0:20260502T103000
DTEND;TZID=Etc/GMT+0:20260502T120000
X-ALT-DESC;FMTTYPE=TEXT/HTML:The Trading Hut is open this Saturday and you 
 can come down for a cup of tea and a chat with your fellow plot holders.
CATEGORIES:Sunday Social,  TradingHut
URL;VALUE=URI:https://shas.org.uk/mc-events/trading-hut-open-saturday-socia
 l-2/?mc_id=47
END:VEVENT
END:VCALENDAR