BEGIN:VCALENDAR
VERSION:2.0
PRODID:spatie/icalendar-generator
DESCRIPTION:Events from Grosvenor Road Allotments
X-WR-CALDESC:Events from Grosvenor Road Allotments
REFRESH-INTERVAL;VALUE=DURATION:PT1440M
X-PUBLISHED-TTL:PT1440M
BEGIN:VTIMEZONE
TZID:Etc/GMT+0
BEGIN:STANDARD
DTSTART:20250716T103000Z
TZOFFSETFROM:+0000
TZOFFSETTO:+0000
END:STANDARD
END:VTIMEZONE
BEGIN:VTIMEZONE
TZID:UTC
BEGIN:STANDARD
DTSTART:20250725T194449Z
TZOFFSETFROM:+0000
TZOFFSETTO:+0000
END:STANDARD
END:VTIMEZONE
BEGIN:VEVENT
UID:55-18
DTSTAMP:20260421T194449Z
SUMMARY:Trading Hut Open
LOCATION:
ORGANIZER;CN=admin:MAILTO:tinaccooper86@gmail.com
DTSTART;TZID=Etc/GMT+0:20260412T103000
DTEND;TZID=Etc/GMT+0:20260412T120000
X-ALT-DESC;FMTTYPE=TEXT/HTML:The Trading Hut is open this weekend.
CATEGORIES:TradingHut
URL;VALUE=URI:https://shas.org.uk/mc-events/trading-hut-open-7/?mc_id=55
END:VEVENT
END:VCALENDAR