BEGIN:VCALENDAR
VERSION:2.0
PRODID:spatie/icalendar-generator
DESCRIPTION:Events from Grosvenor Road Allotments
X-WR-CALDESC:Events from Grosvenor Road Allotments
REFRESH-INTERVAL;VALUE=DURATION:PT1440M
X-PUBLISHED-TTL:PT1440M
BEGIN:VTIMEZONE
TZID:Etc/GMT+0
BEGIN:STANDARD
DTSTART:20240911T103000Z
TZOFFSETFROM:+0000
TZOFFSETTO:+0000
END:STANDARD
END:VTIMEZONE
BEGIN:VTIMEZONE
TZID:UTC
BEGIN:STANDARD
DTSTART:20250726T071844Z
TZOFFSETFROM:+0000
TZOFFSETTO:+0000
END:STANDARD
END:VTIMEZONE
BEGIN:VEVENT
UID:44-7
DTSTAMP:20260422T071844Z
SUMMARY:Sunday Social
LOCATION:The Hoe Down
ORGANIZER;CN=admin:MAILTO:tinaccooper86@gmail.com
DTSTART;TZID=Etc/GMT+0:20250608T103000
DTEND;TZID=Etc/GMT+0:20250608T120000
X-ALT-DESC;FMTTYPE=TEXT/HTML:
CATEGORIES:General,  Sunday Social
URL;VALUE=URI:https://shas.org.uk/mc-events/sunday-social/?mc_id=44
END:VEVENT
END:VCALENDAR