BEGIN:VCALENDAR
VERSION:2.0
PRODID:spatie/icalendar-generator
DESCRIPTION:Events from Grosvenor Road Allotments
X-WR-CALDESC:Events from Grosvenor Road Allotments
REFRESH-INTERVAL;VALUE=DURATION:PT1440M
X-PUBLISHED-TTL:PT1440M
BEGIN:VTIMEZONE
TZID:Etc/GMT+0
BEGIN:STANDARD
DTSTART:20250723T103000Z
TZOFFSETFROM:+0000
TZOFFSETTO:+0000
END:STANDARD
END:VTIMEZONE
BEGIN:VTIMEZONE
TZID:UTC
BEGIN:STANDARD
DTSTART:20250725T211459Z
TZOFFSETFROM:+0000
TZOFFSETTO:+0000
END:STANDARD
END:VTIMEZONE
BEGIN:VEVENT
UID:66-29
DTSTAMP:20260421T211459Z
SUMMARY:Trading Hut Open &amp;amp\; Sunday Social
LOCATION:
ORGANIZER;CN=admin:MAILTO:tinaccooper86@gmail.com
DTSTART;TZID=Etc/GMT+0:20260419T103000
DTEND;TZID=Etc/GMT+0:20260419T120000
X-ALT-DESC;FMTTYPE=TEXT/HTML:The Trading Hut is open and you can come down 
 for a cup of tea with your fellow plot holders.
CATEGORIES:Sunday Social,  TradingHut
URL;VALUE=URI:https://shas.org.uk/mc-events/trading-hut-open-sunday-social-
 2/?mc_id=66
END:VEVENT
END:VCALENDAR